BEGIN:VCALENDAR
VERSION:2.0
PRODID:icalendar-ruby
CALSCALE:GREGORIAN
METHOD:PUBLISH
BEGIN:VEVENT
DTSTAMP:20260423T113044Z
UID:640-2272934@desertcross.org
DTSTART:20260426T163000Z
DTEND:20260427T050000Z
CLASS:PUBLIC
CREATED:20260422T144531
DESCRIPTION:
LAST-MODIFIED:20260422T144531
LOCATION:8600 South McClintock Drive\, Tempe\, Arizona 85284
SUMMARY:Desert Cross Online Worship -- April 26\, 2026
URL;VALUE=URI:https://www.desertcross.org/events/desert-cross-online-worshi
 p-april-26-2026/2026-04-26
ATTACH;FILENAME=just a sheep LT.jpg;FMTTYPE=image/jpeg:https://dq5pwpg1q8ru
 0.cloudfront.net/2026/04/22/21/45/20/d62d496b-87ca-4c12-b6a1-82c39e06c354/
 just%20a%20sheep%20LT.jpg
ATTACH;FILENAME="EASTER 4 -- April 25-26, 2026 -- Sat 5pm, Tempe, Gilbert (
 Blended Order).pdf";FMTTYPE=application/pdf:https://dq5pwpg1q8ru0.cloudfro
 nt.net/2026/04/22/21/45/19/736e2e1b-59de-47df-9395-23f614eaddd6/EASTER%204
 %20--%20April%2025-26,%202026%20--%20Sat%205pm,%20Tempe,%20Gilbert%20(Blen
 ded%20Order).pdf
END:VEVENT
END:VCALENDAR
